BEGIN:VCALENDAR
VERSION:2.0
BEGIN:VEVENT
URL:https://heritagehotel.oztix.com.au/outlet/event/0bcf752b-5096-4fe5-b3f8-0bdc14c3d959
DTSTART:20210416T090000Z
DTEND:20210416T090000Z
SUMMARY:Jeff Martin (The Tea Party)  ‘Set in Stone’ Australian Tour
DESCRIPTION:Event details: https://heritagehotel.oztix.com.au/outlet/event/0bcf752b-5096-4fe5-b3f8-0bdc14c3d959
LOCATION:The Heritage Hotel, Bulli (Bulli, NSW)
END:VEVENT
END:VCALENDAR