BEGIN:VCALENDAR
VERSION:2.0
BEGIN:VEVENT
URL:https://heritagehotel.oztix.com.au/outlet/event/1d1be675-b211-4a08-b3f9-b777222f0d3a
DTSTART:20210318T070000Z
DTEND:20210318T070000Z
SUMMARY:All Our Exes Live in Texas - EARLY SHOW
DESCRIPTION:Event details: https://heritagehotel.oztix.com.au/outlet/event/1d1be675-b211-4a08-b3f9-b777222f0d3a
LOCATION:The Heritage Hotel, Bulli (Bulli, NSW)
END:VEVENT
END:VCALENDAR