BEGIN:VCALENDAR
VERSION:2.0
BEGIN:VEVENT
URL:https://heritagehotel.oztix.com.au/outlet/event/1ecfc2a6-99e6-4e21-9e2d-0860a4bf9b01
DTSTART:20210612T080000Z
DTEND:20210612T080000Z
SUMMARY:The Cream of Eric Clapton & Gary Moore - EARLY SHOW
DESCRIPTION:Event details: https://heritagehotel.oztix.com.au/outlet/event/1ecfc2a6-99e6-4e21-9e2d-0860a4bf9b01
LOCATION:The Heritage Hotel, Bulli (Bulli, NSW)
END:VEVENT
END:VCALENDAR