BEGIN:VCALENDAR
VERSION:2.0
BEGIN:VEVENT
URL:https://heritagehotel.oztix.com.au/outlet/event/20c5e0f3-3159-46de-912d-405809de515d
DTSTART:20210327T073000Z
DTEND:20210327T073000Z
SUMMARY:The Vandastruts
DESCRIPTION:Event details: https://heritagehotel.oztix.com.au/outlet/event/20c5e0f3-3159-46de-912d-405809de515d
LOCATION:The Heritage Hotel, Bulli (Bulli, NSW)
END:VEVENT
END:VCALENDAR