BEGIN:VCALENDAR
VERSION:2.0
BEGIN:VEVENT
URL:https://heritagehotel.oztix.com.au/outlet/event/24733df0-1504-4349-b51a-f94287fcd001
DTSTART:20210508T103000Z
DTEND:20210508T103000Z
SUMMARY:Choirboys - LATE SHOW
DESCRIPTION:Event details: https://heritagehotel.oztix.com.au/outlet/event/24733df0-1504-4349-b51a-f94287fcd001
LOCATION:The Heritage Hotel, Bulli (Bulli, NSW)
END:VEVENT
END:VCALENDAR