BEGIN:VCALENDAR
VERSION:2.0
BEGIN:VEVENT
URL:https://heritagehotel.oztix.com.au/outlet/event/44b338cd-7f89-4d0c-9de9-1c05f3ba0155
DTSTART:20210612T110000Z
DTEND:20210612T110000Z
SUMMARY:The Cream of Eric Clapton & Gary Moore - LATE SHOW
DESCRIPTION:Event details: https://heritagehotel.oztix.com.au/outlet/event/44b338cd-7f89-4d0c-9de9-1c05f3ba0155
LOCATION:The Heritage Hotel, Bulli (Bulli, NSW)
END:VEVENT
END:VCALENDAR