BEGIN:VCALENDAR
VERSION:2.0
BEGIN:VEVENT
URL:https://heritagehotel.oztix.com.au/outlet/event/49f0c853-159d-4ba2-9d7c-855f4d58429d
DTSTART:20210319T070000Z
DTEND:20210319T070000Z
SUMMARY:CANCELLED - Chase The Sun
DESCRIPTION:Event details: https://heritagehotel.oztix.com.au/outlet/event/49f0c853-159d-4ba2-9d7c-855f4d58429d
LOCATION:The Heritage Hotel, Bulli (Bulli, NSW)
END:VEVENT
END:VCALENDAR