BEGIN:VCALENDAR
VERSION:2.0
BEGIN:VEVENT
URL:https://heritagehotel.oztix.com.au/outlet/event/56f19a06-d612-4f4d-9a15-65b706b1032e
DTSTART:20210619T080000Z
DTEND:20210619T080000Z
SUMMARY:Steve Kilbey (The Church) & The Winged Heels - EARLY SHOW
DESCRIPTION:Event details: https://heritagehotel.oztix.com.au/outlet/event/56f19a06-d612-4f4d-9a15-65b706b1032e
LOCATION:The Heritage Hotel, Bulli (Bulli, NSW)
END:VEVENT
END:VCALENDAR