BEGIN:VCALENDAR
VERSION:2.0
BEGIN:VEVENT
URL:https://heritagehotel.oztix.com.au/outlet/event/5752d550-662e-458c-8327-bc84782cc44d
DTSTART:20210313T073000Z
DTEND:20210313T073000Z
SUMMARY:Mi Sex
DESCRIPTION:Event details: https://heritagehotel.oztix.com.au/outlet/event/5752d550-662e-458c-8327-bc84782cc44d
LOCATION:The Heritage Hotel, Bulli (Bulli, NSW)
END:VEVENT
END:VCALENDAR