BEGIN:VCALENDAR
VERSION:2.0
BEGIN:VEVENT
URL:https://heritagehotel.oztix.com.au/outlet/event/6892724f-b9fe-47fd-9d24-2745b81bb94e
DTSTART:20210226T070000Z
DTEND:20210226T070000Z
SUMMARY:Mark Wilkinson
DESCRIPTION:Event details: https://heritagehotel.oztix.com.au/outlet/event/6892724f-b9fe-47fd-9d24-2745b81bb94e
LOCATION:The Heritage Hotel, Bulli (Bulli, NSW)
END:VEVENT
END:VCALENDAR