BEGIN:VCALENDAR
VERSION:2.0
BEGIN:VEVENT
URL:https://heritagehotel.oztix.com.au/outlet/event/6bac008f-7aca-44d6-b7f2-b81547a0d632
DTSTART:20210626T080000Z
DTEND:20210626T080000Z
SUMMARY:Royale with Cheese: 90s Unplugged - EARLY SHOW
DESCRIPTION:Event details: https://heritagehotel.oztix.com.au/outlet/event/6bac008f-7aca-44d6-b7f2-b81547a0d632
LOCATION:The Heritage Hotel, Bulli (Bulli, NSW)
END:VEVENT
END:VCALENDAR