BEGIN:VCALENDAR
VERSION:2.0
BEGIN:VEVENT
URL:https://heritagehotel.oztix.com.au/outlet/event/6f2c8944-b0d5-46bf-86f9-47b72f319abd
DTSTART:20210605T110000Z
DTEND:20210605T110000Z
SUMMARY:Running in The Shadows – The Australian Fleetwood Mac Show - LATE SHOW
DESCRIPTION:Event details: https://heritagehotel.oztix.com.au/outlet/event/6f2c8944-b0d5-46bf-86f9-47b72f319abd
LOCATION:The Heritage Hotel, Bulli (Bulli, NSW)
END:VEVENT
END:VCALENDAR