BEGIN:VCALENDAR
VERSION:2.0
BEGIN:VEVENT
URL:https://heritagehotel.oztix.com.au/outlet/event/884b8005-36ae-499a-b274-3ffe2db3ab4a
DTSTART:20210501T110000Z
DTEND:20210501T110000Z
SUMMARY:One of These Nights – A Tribute to The Eagles & The Doobie Brothers - LATE SHOW
DESCRIPTION:Event details: https://heritagehotel.oztix.com.au/outlet/event/884b8005-36ae-499a-b274-3ffe2db3ab4a
LOCATION:The Heritage Hotel, Bulli (Bulli, NSW)
END:VEVENT
END:VCALENDAR