BEGIN:VCALENDAR
VERSION:2.0
BEGIN:VEVENT
URL:https://heritagehotel.oztix.com.au/outlet/event/8a70f551-3539-4154-abd5-2d62dc9f67e3
DTSTART:20210902T080000Z
DTEND:20210902T080000Z
SUMMARY:Daniel Champagne
DESCRIPTION:Event details: https://heritagehotel.oztix.com.au/outlet/event/8a70f551-3539-4154-abd5-2d62dc9f67e3
LOCATION:The Heritage Hotel, Bulli (Bulli, NSW)
END:VEVENT
END:VCALENDAR