BEGIN:VCALENDAR
VERSION:2.0
BEGIN:VEVENT
URL:https://heritagehotel.oztix.com.au/outlet/event/97fd4ea8-5c16-48b7-b58e-4fa192b40325
DTSTART:20210417T103000Z
DTEND:20210417T103000Z
SUMMARY:The Lachy Doley Group - LATE SHOW
DESCRIPTION:Event details: https://heritagehotel.oztix.com.au/outlet/event/97fd4ea8-5c16-48b7-b58e-4fa192b40325
LOCATION:The Heritage Hotel, Bulli (Bulli, NSW)
END:VEVENT
END:VCALENDAR