BEGIN:VCALENDAR
VERSION:2.0
BEGIN:VEVENT
URL:https://heritagehotel.oztix.com.au/outlet/event/990da7c2-8d75-4e9c-ade7-4af0c8bdae79
DTSTART:20210501T080000Z
DTEND:20210501T080000Z
SUMMARY:One of These Nights – A Tribute to The Eagles & The Doobie Brothers - EARLY SHOW
DESCRIPTION:Event details: https://heritagehotel.oztix.com.au/outlet/event/990da7c2-8d75-4e9c-ade7-4af0c8bdae79
LOCATION:The Heritage Hotel, Bulli (Bulli, NSW)
END:VEVENT
END:VCALENDAR