BEGIN:VCALENDAR
VERSION:2.0
BEGIN:VEVENT
URL:https://heritagehotel.oztix.com.au/outlet/event/9d7b734d-5a7d-4cfe-a2bc-0affc4afed80
DTSTART:20210508T073000Z
DTEND:20210508T073000Z
SUMMARY:Choirboys  - EARLY SHOW
DESCRIPTION:Event details: https://heritagehotel.oztix.com.au/outlet/event/9d7b734d-5a7d-4cfe-a2bc-0affc4afed80
LOCATION:The Heritage Hotel, Bulli (Bulli, NSW)
END:VEVENT
END:VCALENDAR