BEGIN:VCALENDAR
VERSION:2.0
BEGIN:VEVENT
URL:https://heritagehotel.oztix.com.au/outlet/event/a03744e6-d0fc-4560-b3dc-386f3ba167ba
DTSTART:20210619T110000Z
DTEND:20210619T110000Z
SUMMARY:Steve Kilbey (The Church) & The Winged Heels - LATE SHOW
DESCRIPTION:Event details: https://heritagehotel.oztix.com.au/outlet/event/a03744e6-d0fc-4560-b3dc-386f3ba167ba
LOCATION:The Heritage Hotel, Bulli (Bulli, NSW)
END:VEVENT
END:VCALENDAR