BEGIN:VCALENDAR
VERSION:2.0
BEGIN:VEVENT
URL:https://heritagehotel.oztix.com.au/outlet/event/a7462748-073b-4bd5-9e33-825583f00408
DTSTART:20210515T110000Z
DTEND:20210515T110000Z
SUMMARY:Darren Jack Band - LATE SHOW
DESCRIPTION:Event details: https://heritagehotel.oztix.com.au/outlet/event/a7462748-073b-4bd5-9e33-825583f00408
LOCATION:The Heritage Hotel, Bulli (Bulli, NSW)
END:VEVENT
END:VCALENDAR