BEGIN:VCALENDAR
VERSION:2.0
BEGIN:VEVENT
URL:https://heritagehotel.oztix.com.au/outlet/event/a929a516-f7cd-4ab7-abab-fa2e8df6c7ea
DTSTART:20210321T060000Z
DTEND:20210321T060000Z
SUMMARY:Nathan Cavaleri - "Demons" Album Tour
DESCRIPTION:Event details: https://heritagehotel.oztix.com.au/outlet/event/a929a516-f7cd-4ab7-abab-fa2e8df6c7ea
LOCATION:The Heritage Hotel, Bulli (Bulli, NSW)
END:VEVENT
END:VCALENDAR