BEGIN:VCALENDAR
VERSION:2.0
BEGIN:VEVENT
URL:https://heritagehotel.oztix.com.au/outlet/event/bbbdbb69-cbc5-4288-95a7-af8fa476a1c6
DTSTART:20210626T110000Z
DTEND:20210626T110000Z
SUMMARY:Royale with Cheese: 90s Unplugged - LATE SHOW
DESCRIPTION:Event details: https://heritagehotel.oztix.com.au/outlet/event/bbbdbb69-cbc5-4288-95a7-af8fa476a1c6
LOCATION:The Heritage Hotel, Bulli (Bulli, NSW)
END:VEVENT
END:VCALENDAR