BEGIN:VCALENDAR
VERSION:2.0
BEGIN:VEVENT
URL:https://heritagehotel.oztix.com.au/outlet/event/c3adcb91-46e8-477b-b7fc-b8be08de7c3e
DTSTART:20210522T083000Z
DTEND:20210522T083000Z
SUMMARY:The Van Halen Show & PoizonUs - Best of Both Worlds
DESCRIPTION:Event details: https://heritagehotel.oztix.com.au/outlet/event/c3adcb91-46e8-477b-b7fc-b8be08de7c3e
LOCATION:The Heritage Hotel, Bulli (Bulli, NSW)
END:VEVENT
END:VCALENDAR