BEGIN:VCALENDAR
VERSION:2.0
BEGIN:VEVENT
URL:https://heritagehotel.oztix.com.au/outlet/event/d7abdf31-fab4-4823-b322-5056084c4abe
DTSTART:20210605T080000Z
DTEND:20210605T080000Z
SUMMARY:Running in The Shadows – The Australian Fleetwood Mac Show - EARLY SHOW
DESCRIPTION:Event details: https://heritagehotel.oztix.com.au/outlet/event/d7abdf31-fab4-4823-b322-5056084c4abe
LOCATION:The Heritage Hotel, Bulli (Bulli, NSW)
END:VEVENT
END:VCALENDAR