BEGIN:VCALENDAR
VERSION:2.0
BEGIN:VEVENT
URL:https://heritagehotel.oztix.com.au/outlet/event/e7e7c6bd-f938-46d7-9e71-c891c02682bf
DTSTART:20210410T080000Z
DTEND:20210410T080000Z
SUMMARY:Andrew Farriss (INXS) - EARLY SHOW
DESCRIPTION:Event details: https://heritagehotel.oztix.com.au/outlet/event/e7e7c6bd-f938-46d7-9e71-c891c02682bf
LOCATION:The Heritage Hotel, Bulli (Bulli, NSW)
END:VEVENT
END:VCALENDAR