BEGIN:VCALENDAR
VERSION:2.0
BEGIN:VEVENT
URL:https://heritagehotel.oztix.com.au/outlet/event/f3be6f7d-af98-4764-9d58-ed9a9f5ea26a
DTSTART:20210227T073000Z
DTEND:20210227T073000Z
SUMMARY:INXSIVE – The INXS Show
DESCRIPTION:Event details: https://heritagehotel.oztix.com.au/outlet/event/f3be6f7d-af98-4764-9d58-ed9a9f5ea26a
LOCATION:The Heritage Hotel, Bulli (Bulli, NSW)
END:VEVENT
END:VCALENDAR