BEGIN:VCALENDAR
VERSION:2.0
BEGIN:VEVENT
URL:https://heritagehotel.oztix.com.au/outlet/event/fc8a7438-c025-4202-978b-ad5824526488
DTSTART:20210410T110000Z
DTEND:20210410T110000Z
SUMMARY:Andrew Farriss (INXS) - LATE SHOW
DESCRIPTION:Event details: https://heritagehotel.oztix.com.au/outlet/event/fc8a7438-c025-4202-978b-ad5824526488
LOCATION:The Heritage Hotel, Bulli (Bulli, NSW)
END:VEVENT
END:VCALENDAR